BEGIN:VCALENDAR
VERSION:2.0
PRODID:-//Franck Nouzies - ECPv6.9.0//NONSGML v1.0//EN
CALSCALE:GREGORIAN
METHOD:PUBLISH
X-WR-CALNAME:Franck Nouzies
X-ORIGINAL-URL:http://www.franck-nouzies.fr
X-WR-CALDESC:Évènements pour Franck Nouzies
REFRESH-INTERVAL;VALUE=DURATION:PT1H
X-Robots-Tag:noindex
X-PUBLISHED-TTL:PT1H
BEGIN:VTIMEZONE
TZID:Europe/Paris
BEGIN:DAYLIGHT
TZOFFSETFROM:+0100
TZOFFSETTO:+0200
TZNAME:CEST
DTSTART:20250330T010000
END:DAYLIGHT
BEGIN:STANDARD
TZOFFSETFROM:+0200
TZOFFSETTO:+0100
TZNAME:CET
DTSTART:20251026T010000
END:STANDARD
END:VTIMEZONE
BEGIN:VEVENT
DTSTART;TZID=Europe/Paris:20250120T203000
DTEND;TZID=Europe/Paris:20250120T223000
DTSTAMP:20260419T184148
CREATED:20241215T212552Z
LAST-MODIFIED:20241215T221347Z
UID:365-1737405000-1737412200@www.franck-nouzies.fr
SUMMARY:Soirée hypnose - Théâtre de Poche - La Ciotat
DESCRIPTION:
URL:http://www.franck-nouzies.fr/event/soiree-hypnose-theatre-de-poche-la-ciotat/
CATEGORIES:Hypnose
END:VEVENT
BEGIN:VEVENT
DTSTART;TZID=Europe/Paris:20250124T203000
DTEND;TZID=Europe/Paris:20250124T223000
DTSTAMP:20260419T184148
CREATED:20241215T213104Z
LAST-MODIFIED:20241220T223114Z
UID:369-1737750600-1737757800@www.franck-nouzies.fr
SUMMARY:Soirée spéciale - Café théâtre Porte d’Italie – Toulon
DESCRIPTION:
URL:http://www.franck-nouzies.fr/event/soiree-speciale-porte-ditalie-toulon/
CATEGORIES:Hypnose
ATTACH;FMTTYPE=image/jpeg:http://www.franck-nouzies.fr/wp-content/uploads/2024/12/Affiche-2401.jpeg
END:VEVENT
BEGIN:VEVENT
DTSTART;TZID=Europe/Paris:20250125T203000
DTEND;TZID=Europe/Paris:20250125T223000
DTSTAMP:20260419T184148
CREATED:20241215T213331Z
LAST-MODIFIED:20241215T213340Z
UID:371-1737837000-1737844200@www.franck-nouzies.fr
SUMMARY:Soirée hypnose - Café théâtre Porte d’Italie – Toulon
DESCRIPTION:
URL:http://www.franck-nouzies.fr/event/soiree-hypnose-cafe-theatre-porte-ditalie-toulon/
CATEGORIES:Hypnose
END:VEVENT
BEGIN:VEVENT
DTSTART;TZID=Europe/Paris:20250131T203000
DTEND;TZID=Europe/Paris:20250131T223000
DTSTAMP:20260419T184148
CREATED:20241220T213324Z
LAST-MODIFIED:20241220T213324Z
UID:386-1738355400-1738362600@www.franck-nouzies.fr
SUMMARY:Soirée hypnose - Restaurant Le People - Hyères
DESCRIPTION:
URL:http://www.franck-nouzies.fr/event/soiree-hypnose-restaurant-le-people-hyeres/
CATEGORIES:Hypnose
END:VEVENT
END:VCALENDAR