BEGIN:VCALENDAR
VERSION:2.0
PRODID:-//Franck Nouzies - ECPv6.9.0//NONSGML v1.0//EN
CALSCALE:GREGORIAN
METHOD:PUBLISH
X-WR-CALNAME:Franck Nouzies
X-ORIGINAL-URL:http://www.franck-nouzies.fr
X-WR-CALDESC:Évènements pour Franck Nouzies
REFRESH-INTERVAL;VALUE=DURATION:PT1H
X-Robots-Tag:noindex
X-PUBLISHED-TTL:PT1H
BEGIN:VTIMEZONE
TZID:Europe/Paris
BEGIN:DAYLIGHT
TZOFFSETFROM:+0100
TZOFFSETTO:+0200
TZNAME:CEST
DTSTART:20240331T010000
END:DAYLIGHT
BEGIN:STANDARD
TZOFFSETFROM:+0200
TZOFFSETTO:+0100
TZNAME:CET
DTSTART:20241027T010000
END:STANDARD
END:VTIMEZONE
BEGIN:VEVENT
DTSTART;TZID=Europe/Paris:20241219T203000
DTEND;TZID=Europe/Paris:20241219T223000
DTSTAMP:20260419T200943
CREATED:20241215T112603Z
LAST-MODIFIED:20241215T212654Z
UID:355-1734640200-1734647400@www.franck-nouzies.fr
SUMMARY:Soirée hypnose - La Baie des Pirates - Toulon
DESCRIPTION:La Baie des Pirates – Toulon\nRéservation : 09.75.82.37.91
URL:http://www.franck-nouzies.fr/event/soiree-hypnose/
LOCATION:La baie des pirates\, Toulon\, France
CATEGORIES:Hypnose
END:VEVENT
END:VCALENDAR